BEGIN:VCALENDAR
VERSION:2.0
PRODID:-//Strategic Exceptions Professional Consulting - ECPv6.15.20//NONSGML v1.0//EN
CALSCALE:GREGORIAN
METHOD:PUBLISH
X-WR-CALNAME:Strategic Exceptions Professional Consulting
X-ORIGINAL-URL:https://strategicexceptions.com
X-WR-CALDESC:Events for Strategic Exceptions Professional Consulting
REFRESH-INTERVAL;VALUE=DURATION:PT1H
X-Robots-Tag:noindex
X-PUBLISHED-TTL:PT1H
BEGIN:VTIMEZONE
TZID:UTC
BEGIN:STANDARD
TZOFFSETFROM:+0000
TZOFFSETTO:+0000
TZNAME:UTC
DTSTART:20200101T000000
END:STANDARD
END:VTIMEZONE
BEGIN:VEVENT
DTSTART;VALUE=DATE:20220326
DTEND;VALUE=DATE:20220327
DTSTAMP:20260421T212806
CREATED:20220402T001833Z
LAST-MODIFIED:20220422T123142Z
UID:7834-1648252800-1648339199@strategicexceptions.com
SUMMARY:Trailblazing Women in Our Community
DESCRIPTION:Our CEO\, Terrie Simmons\, was so honored and excited to participate in this event alongside Congressman Foster\, and these other wonderful guests🙏! She’s humbled to be considered a ‘Trailblazer’ in our community 🔥. \nCheck out our discussion about celebrating trailblazing women from the community\, their stories and experiences\, and hearing their advice to young women today.
URL:https://strategicexceptions.com/event/trailblazing-women-in-our-community/
ATTACH;FMTTYPE=image/jpeg:https://strategicexceptions.com/wp-content/uploads/2022/03/SE-Event-1.jpg
END:VEVENT
BEGIN:VEVENT
DTSTART;VALUE=DATE:20211202
DTEND;VALUE=DATE:20211203
DTSTAMP:20260421T212806
CREATED:20220402T001051Z
LAST-MODIFIED:20220422T123142Z
UID:7833-1638403200-1638489599@strategicexceptions.com
SUMMARY:2021 Woodforest Foundry Kickoff
DESCRIPTION:Our 2021 Woodforest Foundry Kickoff was a huge success! Relive this great session and hear from seasoned entrepreneurs who shared their success stories and helped registrants to learn how to take their BIG dreams and transform them into even BIGGER businesses.
URL:https://strategicexceptions.com/event/2021-woodforest-foundry-kickoff/
ATTACH;FMTTYPE=image/jpeg:https://strategicexceptions.com/wp-content/uploads/2019/12/woodforest-foundry.jpg
END:VEVENT
END:VCALENDAR